BEGIN:VCALENDAR
VERSION:2.0
PRODID:-//hacksw/handcal//NONSGML v1.0//EN
BEGIN:VEVENT
DTSTAMP:20260619T230000Z
DTSTART:20260619T230000Z
DTEND:20260620T010000Z

SUMMARY:Planet KPOP
DESCRIPTION:Planet KPOP is a unique hybrid spectacle that blends the excitement of a live concert with the immersion of a full dance experience! The choreography pushes the energy sky-high, shaping a visual feast of synchronized movement, iconic formations, and unmistakable KPOP flair.And the excitement doesn’t stop there. Prepare for on-stage dance battles, dynamic lighting moments, high-energy highlights, and surprise cast interactions, all crafted to pull you deeper into the spirit of the fandom and make this an unforgettable celebration of global KPOP culture!Disclaimer: Planet KPOP and its events are not affiliated with the films and composers listed. All trademarks are the property of their respective owners.
END:VEVENT
END:VCALENDAR